BEGIN:VCALENDAR
VERSION:2.0
PRODID:-//Fábrica San Pedro - ECPv6.0.3//NONSGML v1.0//EN
CALSCALE:GREGORIAN
METHOD:PUBLISH
X-ORIGINAL-URL:https://fabricadesanpedro.com
X-WR-CALDESC:Events for Fábrica San Pedro
REFRESH-INTERVAL;VALUE=DURATION:PT1H
X-Robots-Tag:noindex
X-PUBLISHED-TTL:PT1H
BEGIN:VTIMEZONE
TZID:UTC
BEGIN:STANDARD
TZOFFSETFROM:+0000
TZOFFSETTO:+0000
TZNAME:UTC
DTSTART:20260101T000000
END:STANDARD
END:VTIMEZONE
BEGIN:VEVENT
DTSTART;TZID=UTC:20260425T170000
DTEND;TZID=UTC:20260425T200000
DTSTAMP:20260423T094554
CREATED:20260422T181352Z
LAST-MODIFIED:20260422T181352Z
UID:10000166-1777136400-1777147200@fabricadesanpedro.com
SUMMARY:Festival para las infancias. Proyección de cortometrajes\, talleres y sorpresas
DESCRIPTION:Festival para las infancias 2026.\n\nCortometrajes y activacionesSábado 25 de abril\, 5:00 pm \n\nCentro Cultural Fábrica de San Pedro\nMiguel Treviño #100\, Centro\, Uruapan\, Mich.
URL:https://fabricadesanpedro.com/eventos/festival-para-las-infancias-proyeccion-de-cortometrajes-talleres-y-sorpresas/
LOCATION:Presentación del libro: Anaxuntani. Tras la pista de la estatua Uruapan\, michoacan
CATEGORIES:Eventos
ATTACH;FMTTYPE=image/jpeg:https://fabricadesanpedro.com/wp-content/uploads/2026/04/Festival-para-las-infancias.Cortometrajes.jpg
END:VEVENT
BEGIN:VEVENT
DTSTART;TZID=UTC:20260430T180000
DTEND;TZID=UTC:20260430T200000
DTSTAMP:20260423T094554
CREATED:20260422T184354Z
LAST-MODIFIED:20260422T184354Z
UID:10000168-1777572000-1777579200@fabricadesanpedro.com
SUMMARY:Presentación del libro: Anaxuntani. Tras la pista de la estatua Uruapan
DESCRIPTION:Presentación del libro: \nAnaxuntani. Tras la pista de la estatua Uruapan de Dante Medina\nDante Medina: Doctor en Lenguas Románicas\, hijo adoptivo de Uruapan\, ha sido profesor\, investigador y conferencista en varios países y ganado numerosos premios literarios nacionales e internacionales.\n\n \nPresentadores:\nArturo Ávila Val\nOziel Ulises Talavera Ibarra\n\n\n \nJueves 30 de abril\n6:00 pm\n\n\n\n \nEntrada gratuita\n \n\n\n\n\n\n\n\nCentro Cultural Fábrica de San Pedro\nMiguel Treviño #100\, Centro\, Uruapan\, Mich.
URL:https://fabricadesanpedro.com/eventos/presentacion-del-libro-anaxuntani-tras-la-pista-de-la-estatua-uruapan/
LOCATION:Presentación del libro: Anaxuntani. Tras la pista de la estatua Uruapan\, michoacan
CATEGORIES:Eventos
ATTACH;FMTTYPE=image/jpeg:https://fabricadesanpedro.com/wp-content/uploads/2026/04/Presentacion-del-libro-Anaxuntani.jpg
END:VEVENT
BEGIN:VEVENT
DTSTART;TZID=UTC:20260502T163000
DTEND;TZID=UTC:20260502T200000
DTSTAMP:20260423T094554
CREATED:20260422T182739Z
LAST-MODIFIED:20260422T182739Z
UID:10000167-1777739400-1777752000@fabricadesanpedro.com
SUMMARY:Festival para las infancias. Obra de teatro: Luna
DESCRIPTION:Festival para las infancias 2026.\nLuna\nObra de teatro\nde Afolfo Reyes.\nDirección: Luisa Fernanda Ortiz\n\nMúsica en vivo: Laura Trotes\n\nTeatro para niños y niñas de tres a seis años\n\n\nFunciones: Sábado 2 de mayo\, 4:30 y 6:00 pm\n \n\n\nCentro Cultural Fábrica de San Pedro\nMiguel Treviño #100\, Centro\, Uruapan\, Mich.
URL:https://fabricadesanpedro.com/eventos/festival-para-las-infancias-obra-de-teatro-luna/
LOCATION:Presentación del libro: Anaxuntani. Tras la pista de la estatua Uruapan\, michoacan
CATEGORIES:Eventos
ATTACH;FMTTYPE=image/jpeg:https://fabricadesanpedro.com/wp-content/uploads/2026/04/LUNA-TEATRO3_Mesa-de-trabajo-1.jpg-scaled.jpeg
END:VEVENT
END:VCALENDAR